BEGIN:VCALENDAR
VERSION:2.0
PRODID:-//West Clermont Athletic Boosters - ECPv6.15.11//NONSGML v1.0//EN
CALSCALE:GREGORIAN
METHOD:PUBLISH
X-WR-CALNAME:West Clermont Athletic Boosters
X-ORIGINAL-URL:http://wcwolfpackboosters.com
X-WR-CALDESC:Events for West Clermont Athletic Boosters
REFRESH-INTERVAL;VALUE=DURATION:PT1H
X-Robots-Tag:noindex
X-PUBLISHED-TTL:PT1H
BEGIN:VTIMEZONE
TZID:UTC
BEGIN:STANDARD
TZOFFSETFROM:+0000
TZOFFSETTO:+0000
TZNAME:UTC
DTSTART:20160101T000000
END:STANDARD
END:VTIMEZONE
BEGIN:VEVENT
DTSTART;TZID=UTC:20181005T190000
DTEND;TZID=UTC:20181005T190000
DTSTAMP:20260420T164427
CREATED:20180918T214731Z
LAST-MODIFIED:20180918T214731Z
UID:322-1538766000-1538766000@wcwolfpackboosters.com
SUMMARY:Varsity Football vs Anderson
DESCRIPTION:Home
URL:http://wcwolfpackboosters.com/calendar/varsity-football-vs-anderson
LOCATION:West Clermont High School\, 4101 Bach-Buxton Road\, Cincinnati\, OH\, 45103\, United States
CATEGORIES:Football,Sports
ORGANIZER;CN="Nick Ayers":MAILTO:nickrayers@gmail.com
END:VEVENT
BEGIN:VEVENT
DTSTART;TZID=UTC:20181003T183000
DTEND;TZID=UTC:20181003T200000
DTSTAMP:20260420T164427
CREATED:20180910T141923Z
LAST-MODIFIED:20180910T141923Z
UID:301-1538591400-1538596800@wcwolfpackboosters.com
SUMMARY:Booster Meeting - October 2018
DESCRIPTION:The meeting will be in Community Room A.
URL:http://wcwolfpackboosters.com/calendar/booster-meeting-october-2018
LOCATION:West Clermont High School\, 4101 Bach-Buxton Road\, Cincinnati\, OH\, 45103\, United States
CATEGORIES:Meeting
ORGANIZER;CN="Deb Berger":MAILTO:debra.berger00@gmail.com
END:VEVENT
BEGIN:VEVENT
DTSTART;TZID=UTC:20180928T190000
DTEND;TZID=UTC:20180928T190000
DTSTAMP:20260420T164427
CREATED:20180918T214731Z
LAST-MODIFIED:20180918T214731Z
UID:321-1538161200-1538161200@wcwolfpackboosters.com
SUMMARY:Varsity Football vs Loveland
DESCRIPTION:Home (Homecoming Game)
URL:http://wcwolfpackboosters.com/calendar/varsity-football-vs-loveland
LOCATION:West Clermont High School\, 4101 Bach-Buxton Road\, Cincinnati\, OH\, 45103\, United States
CATEGORIES:Football,Sports
ORGANIZER;CN="Nick Ayers":MAILTO:nickrayers@gmail.com
END:VEVENT
BEGIN:VEVENT
DTSTART;TZID=UTC:20180921T190000
DTEND;TZID=UTC:20180921T190000
DTSTAMP:20260420T164427
CREATED:20180918T214729Z
LAST-MODIFIED:20180918T214729Z
UID:320-1537556400-1537556400@wcwolfpackboosters.com
SUMMARY:Varsity Football @ Walnut Hills
DESCRIPTION:Away
URL:http://wcwolfpackboosters.com/calendar/varsity-football-walnut-hills
LOCATION:Walnut Hills High School\, 3250 Victory Pkwy\, Cincinnati\, OH\, 45207\, United States
CATEGORIES:Football,Sports
ORGANIZER;CN="Nick Ayers":MAILTO:nickrayers@gmail.com
END:VEVENT
BEGIN:VEVENT
DTSTART;TZID=UTC:20180914T190000
DTEND;TZID=UTC:20180914T190000
DTSTAMP:20260420T164427
CREATED:20180918T214729Z
LAST-MODIFIED:20180918T214729Z
UID:319-1536951600-1536951600@wcwolfpackboosters.com
SUMMARY:Varsity Footbal vs Turpin
DESCRIPTION:Home
URL:http://wcwolfpackboosters.com/calendar/varsity-footbal-vs-turpin
LOCATION:West Clermont High School\, 4101 Bach-Buxton Road\, Cincinnati\, OH\, 45103\, United States
CATEGORIES:Football,Sports
ORGANIZER;CN="Nick Ayers":MAILTO:nickrayers@gmail.com
END:VEVENT
BEGIN:VEVENT
DTSTART;TZID=UTC:20180907T190000
DTEND;TZID=UTC:20180907T190000
DTSTAMP:20260420T164427
CREATED:20180918T214729Z
LAST-MODIFIED:20180918T214729Z
UID:318-1536346800-1536346800@wcwolfpackboosters.com
SUMMARY:Varsity Football vs Lebanon
DESCRIPTION:Home
URL:http://wcwolfpackboosters.com/calendar/varsity-football-vs-lebanon
LOCATION:West Clermont High School\, 4101 Bach-Buxton Road\, Cincinnati\, OH\, 45103\, United States
CATEGORIES:Football,Sports
ORGANIZER;CN="Nick Ayers":MAILTO:nickrayers@gmail.com
END:VEVENT
BEGIN:VEVENT
DTSTART;TZID=UTC:20180831T190000
DTEND;TZID=UTC:20180831T190000
DTSTAMP:20260420T164427
CREATED:20180918T214728Z
LAST-MODIFIED:20180918T214728Z
UID:317-1535742000-1535742000@wcwolfpackboosters.com
SUMMARY:Varsity Football @ Winton Woods
DESCRIPTION:Away
URL:http://wcwolfpackboosters.com/calendar/varsity-football-winton-woods
LOCATION:Winton Woods High School\, 1231 W Kemper Rd\, Cincinnati\, OH\, 45240\, United States
CATEGORIES:Football,Sports
ORGANIZER;CN="Nick Ayers":MAILTO:nickrayers@gmail.com
END:VEVENT
BEGIN:VEVENT
DTSTART;TZID=UTC:20180824T190000
DTEND;TZID=UTC:20180824T190000
DTSTAMP:20260420T164427
CREATED:20180918T214728Z
LAST-MODIFIED:20180918T214728Z
UID:316-1535137200-1535137200@wcwolfpackboosters.com
SUMMARY:Varsity Football @ Hamilton
DESCRIPTION:Away
URL:http://wcwolfpackboosters.com/calendar/varsity-football-hamilton
LOCATION:Hamilton High School\, 1165 Eaton Ave\, Hamilton\, OH 45013\, Hamilton\, OH\, 45013\, United States
CATEGORIES:Football,Sports
ORGANIZER;CN="Nick Ayers":MAILTO:nickrayers@gmail.com
END:VEVENT
BEGIN:VEVENT
DTSTART;TZID=UTC:20180316T190000
DTEND;TZID=UTC:20180317T000000
DTSTAMP:20260420T164427
CREATED:20180129T151106Z
LAST-MODIFIED:20180226T163749Z
UID:245-1521226800-1521244800@wcwolfpackboosters.com
SUMMARY:2018 Howl at the Moon Dinner Dance
DESCRIPTION:West Clermont Athletic Boosters\n Dinner Dance Fundraiser & Hall of Fame Induction\nFriday\, March 16\, 2018 7:00pm-12:00am at Norlyn Manor \nTicket price includes: Snacks\, Buffet Dinner\, Dessert\, Beer & Wine* (8pm-12pm)\, DJ\, Dancing\, Auctions and Raffles\n*Cash bar will be available from 7-8pm \n$60/person\, $25 extra for a reserved table (seats 8).  Note: After March 2nd cost is $70/person. \nFor questions\, please contact Tara Kaiser at wcwolfpackboosters@gmail.com. \nYou can register for the dinner/dance by filling out this order form (Howl At the Moon 2018 Order Form) and mailing it with a check or money order to WC Athletic Boosters\, 3990 Gardner Ln.\, Cincinnati\, OH 45245.  OR you can register and pay online using the form below and the “Add to Cart” buttons which are tied to the Boosters’ Paypal account. \nIf you use the online option\, fill out the online registration form below and click the “Send” button.  Then in the online payment information area\, select the number of tickets and press “Add to Cart”\, which will open a PayPal screen.  If you want to pay for a reserved table\, come back to the booster site and click the “Add to Cart” button for the reserved table fee. \nOnline Registration Information\n\n\n  \n\n\n\n Name (required)\n \n \n Address (required)\n \n \n City (required)\n \n \n State (required)\n \n \n Zip Code (required)\n \n \n Phone (required)\n \n \n Email (required)\n \n \nHall of Fame Inductee\n \n Guest Names [up to 8 at a table] (required)\n \n \n \n Additional information\n \n \n\n Δ \n\n\n\nOnline Payment Information\n\n \n\n\n\n# of Tickets\n\n\n1 Ticket $60.00 USD2 Tickets $120.00 USD3 Tickets $180.00 USD4 Tickets $240.00 USD5 Tickets $300.00 USD6 Tickets $360.00 USD7 Tickets $420.00 USD8 Tickets $480.00 USD\n\n\n\n\n \n\n\n\n\nReserved Table Fee (for up to 8 persons)
URL:http://wcwolfpackboosters.com/calendar/2018-howl-moon-dinner-dance
LOCATION:Norlyn Manor\, 4440 OH-132\, Batavia\, OH\, 45103\, United States
CATEGORIES:Fundraiser
ORGANIZER;CN="Tara Kaiser":MAILTO:wchowlatthemoon@gmail.com
END:VEVENT
BEGIN:VEVENT
DTSTART;TZID=UTC:20180217T100000
DTEND;TZID=UTC:20180217T130000
DTSTAMP:20260420T164427
CREATED:20180123T162321Z
LAST-MODIFIED:20180215T170848Z
UID:231-1518861600-1518872400@wcwolfpackboosters.com
SUMMARY:King Westley's Princess Tea Party 2018
DESCRIPTION:Come one\, come all for a day of fun and pampering. Come dressed as your favorite princess! You can get your hair and makeup done and nails polished while waiting for your table for tea time! \nThe event will take place Saturday\, February  17\, 2018 from 10 a.m. – 12 p.m. OR 11 a.m. – 1 p.m. (choose one) at the West Clermont High School at the cost of $25 per princess. \nWe will have our own fairy godmothers on staff to take care of all your princess needs! \n***  Registration is now closed  ***
URL:http://wcwolfpackboosters.com/calendar/king-westleys-princess-tea-party-2018
LOCATION:West Clermont High School\, 4101 Bach-Buxton Road\, Cincinnati\, OH\, 45103\, United States
CATEGORIES:Fundraiser
ORGANIZER;CN="Michele Delaney":MAILTO:micheledelaney85@gmail.com
END:VEVENT
BEGIN:VEVENT
DTSTART;TZID=UTC:20171125T090000
DTEND;TZID=UTC:20171125T150000
DTSTAMP:20260420T164427
CREATED:20171017T151248Z
LAST-MODIFIED:20171017T153017Z
UID:217-1511600400-1511622000@wcwolfpackboosters.com
SUMMARY:2017 Craft Show
DESCRIPTION:2017 Craft Show Application \n  \n 
URL:http://wcwolfpackboosters.com/calendar/2017-craft-show
LOCATION:West Clermont High School\, 4101 Bach-Buxton Road\, Cincinnati\, OH\, 45103\, United States
CATEGORIES:Fundraiser
ORGANIZER;CN="Eric Waldmann":MAILTO:ewaldmann@jdlwarm.com
END:VEVENT
BEGIN:VEVENT
DTSTART;TZID=UTC:20170908T190000
DTEND;TZID=UTC:20170908T210000
DTSTAMP:20260420T164427
CREATED:20170821T193804Z
LAST-MODIFIED:20170821T193804Z
UID:135-1504897200-1504904400@wcwolfpackboosters.com
SUMMARY:Varsity Football @ La Salle
DESCRIPTION:Varsity football at La Salle
URL:http://wcwolfpackboosters.com/calendar/varsity-football-la-salle
LOCATION:La Salle High School\, 3091 N Bend Rd\, Cincinnati\, OH\, 45239\, United States
CATEGORIES:Football,Sports
ORGANIZER;CN="James Collins":MAILTO:collins_j@westcler.org
END:VEVENT
BEGIN:VEVENT
DTSTART;TZID=UTC:20170901T190000
DTEND;TZID=UTC:20170901T210000
DTSTAMP:20260420T164427
CREATED:20170821T193300Z
LAST-MODIFIED:20170821T193300Z
UID:131-1504292400-1504299600@wcwolfpackboosters.com
SUMMARY:Varsity Football vs Winton Woods
DESCRIPTION:Home football game vs Winton Woods
URL:http://wcwolfpackboosters.com/calendar/varsity-football-vs-winton-woods
LOCATION:West Clermont High School\, 4101 Bach-Buxton Road\, Cincinnati\, OH\, 45103\, United States
CATEGORIES:Football,Sports
ORGANIZER;CN="James Collins":MAILTO:collins_j@westcler.org
END:VEVENT
BEGIN:VEVENT
DTSTART;TZID=UTC:20170831T190000
DTEND;TZID=UTC:20170831T210000
DTSTAMP:20260420T164427
CREATED:20170821T222929Z
LAST-MODIFIED:20170821T222929Z
UID:155-1504206000-1504213200@wcwolfpackboosters.com
SUMMARY:Varsity Men's Soccer vs Walnut Hills
DESCRIPTION:Varsity men’s soccer vs Walnut Hills at home
URL:http://wcwolfpackboosters.com/calendar/varsity-mens-soccer-vs-walnut-hills
LOCATION:West Clermont High School\, 4101 Bach-Buxton Road\, Cincinnati\, OH\, 45103\, United States
CATEGORIES:Soccer,Sports
ORGANIZER;CN="James Collins":MAILTO:collins_j@westcler.org
END:VEVENT
BEGIN:VEVENT
DTSTART;TZID=UTC:20170829T190000
DTEND;TZID=UTC:20170829T210000
DTSTAMP:20260420T164427
CREATED:20170821T230132Z
LAST-MODIFIED:20170821T230132Z
UID:169-1504033200-1504040400@wcwolfpackboosters.com
SUMMARY:Varsity Women's Volleyball vs Walnut Hills
DESCRIPTION:Varsity women’s volleyball vs Walnut Hills at home
URL:http://wcwolfpackboosters.com/calendar/varsity-womens-volleyball-vs-walnut-hills
LOCATION:West Clermont High School\, 4101 Bach-Buxton Road\, Cincinnati\, OH\, 45103\, United States
CATEGORIES:Sports,Volleyball
ORGANIZER;CN="James Collins":MAILTO:collins_j@westcler.org
END:VEVENT
BEGIN:VEVENT
DTSTART;TZID=UTC:20170829T190000
DTEND;TZID=UTC:20170829T210000
DTSTAMP:20260420T164427
CREATED:20170821T224801Z
LAST-MODIFIED:20170821T224801Z
UID:160-1504033200-1504040400@wcwolfpackboosters.com
SUMMARY:Varsity Women's Soccer @ Walnut Hills
DESCRIPTION:Varsity women’s soccer at Walnut Hills
URL:http://wcwolfpackboosters.com/calendar/varsity-womens-soccer-walnut-hills
LOCATION:Walnut Hills High School\, 3250 Victory Pkwy\, Cincinnati\, OH\, 45207\, United States
CATEGORIES:Soccer,Sports
ORGANIZER;CN="James Collins":MAILTO:collins_j@westcler.org
END:VEVENT
BEGIN:VEVENT
DTSTART;TZID=UTC:20170829T190000
DTEND;TZID=UTC:20170829T210000
DTSTAMP:20260420T164427
CREATED:20170821T222613Z
LAST-MODIFIED:20170821T222613Z
UID:153-1504033200-1504040400@wcwolfpackboosters.com
SUMMARY:Varsity Men's Soccer vs Princeton
DESCRIPTION:Varsity men’s soccer vs Princeton at home
URL:http://wcwolfpackboosters.com/calendar/varsity-mens-soccer-vs-princeton
LOCATION:West Clermont High School\, 4101 Bach-Buxton Road\, Cincinnati\, OH\, 45103\, United States
CATEGORIES:Soccer,Sports
ORGANIZER;CN="James Collins":MAILTO:collins_j@westcler.org
END:VEVENT
BEGIN:VEVENT
DTSTART;TZID=UTC:20170826T120000
DTEND;TZID=UTC:20170826T150000
DTSTAMP:20260420T164427
CREATED:20170821T230006Z
LAST-MODIFIED:20170821T230006Z
UID:167-1503748800-1503759600@wcwolfpackboosters.com
SUMMARY:Varsity Women's Volleyball vs Harrison
DESCRIPTION:Varsity women’s volleyball vs Harrison at home
URL:http://wcwolfpackboosters.com/calendar/varsity-womens-volleyball-vs-harrison
LOCATION:West Clermont High School\, 4101 Bach-Buxton Road\, Cincinnati\, OH\, 45103\, United States
CATEGORIES:Sports,Volleyball
ORGANIZER;CN="James Collins":MAILTO:collins_j@westcler.org
END:VEVENT
BEGIN:VEVENT
DTSTART;TZID=UTC:20170826T090000
DTEND;TZID=UTC:20170826T120000
DTSTAMP:20260420T164427
CREATED:20170821T194638Z
LAST-MODIFIED:20170821T194638Z
UID:141-1503738000-1503748800@wcwolfpackboosters.com
SUMMARY:Varsity Cross Country @ Wilmington
DESCRIPTION:Wilmington Invitational \nVarsity Cross Country \n9am
URL:http://wcwolfpackboosters.com/calendar/varsity-cross-country-wilmington
LOCATION:Wilmington High School\, 300 Richardson Place\, Wilmington\, OH\, 45177\, United States
CATEGORIES:Cross Country,Sports
ORGANIZER;CN="James Collins":MAILTO:collins_j@westcler.org
END:VEVENT
BEGIN:VEVENT
DTSTART;TZID=UTC:20170825T190000
DTEND;TZID=UTC:20170825T210000
DTSTAMP:20260420T164427
CREATED:20170821T192730Z
LAST-MODIFIED:20170821T192730Z
UID:127-1503687600-1503694800@wcwolfpackboosters.com
SUMMARY:Varsity Football vs Princeton
DESCRIPTION:Join us for the inaugural football game of the West Clermont Wolves! \n 
URL:http://wcwolfpackboosters.com/calendar/varsity-football-vs-princeton
LOCATION:West Clermont High School\, 4101 Bach-Buxton Road\, Cincinnati\, OH\, 45103\, United States
CATEGORIES:Football,Sports
ORGANIZER;CN="James Collins":MAILTO:collins_j@westcler.org
END:VEVENT
BEGIN:VEVENT
DTSTART;TZID=UTC:20170824T190000
DTEND;TZID=UTC:20170824T210000
DTSTAMP:20260420T164427
CREATED:20170821T225643Z
LAST-MODIFIED:20170821T225643Z
UID:165-1503601200-1503608400@wcwolfpackboosters.com
SUMMARY:Varsity Women's Volleyball vs Western Brown
DESCRIPTION:Varsity women’s volleyball vs Western Brown at home
URL:http://wcwolfpackboosters.com/calendar/varsity-womens-volleyball-vs-western-brown
LOCATION:West Clermont High School\, 4101 Bach-Buxton Road\, Cincinnati\, OH\, 45103\, United States
CATEGORIES:Sports,Volleyball
ORGANIZER;CN="James Collins":MAILTO:collins_j@westcler.org
END:VEVENT
BEGIN:VEVENT
DTSTART;TZID=UTC:20170824T190000
DTEND;TZID=UTC:20170824T210000
DTSTAMP:20260420T164427
CREATED:20170821T223328Z
LAST-MODIFIED:20170821T223328Z
UID:157-1503601200-1503608400@wcwolfpackboosters.com
SUMMARY:Varsity Women's Soccer vs Mercy
DESCRIPTION:Varsity women’s soccer vs Mercy at home
URL:http://wcwolfpackboosters.com/calendar/varsity-womens-soccer-vs-mercy
LOCATION:West Clermont High School\, 4101 Bach-Buxton Road\, Cincinnati\, OH\, 45103\, United States
CATEGORIES:Soccer,Sports
ORGANIZER;CN="James Collins":MAILTO:collins_j@westcler.org
END:VEVENT
BEGIN:VEVENT
DTSTART;TZID=UTC:20170824T160000
DTEND;TZID=UTC:20170824T193000
DTSTAMP:20260420T164427
CREATED:20170821T221316Z
LAST-MODIFIED:20170821T221316Z
UID:147-1503590400-1503603000@wcwolfpackboosters.com
SUMMARY:Varsity Women's Golf vs Goshen
DESCRIPTION:
URL:http://wcwolfpackboosters.com/calendar/varsity-womens-golf-vs-goshen
LOCATION:Friendly Meadows Golf Course\, 809 OH-125\, Hamersville\, OH\, 45130\, United States
CATEGORIES:Golf,Sports
ORGANIZER;CN="James Collins":MAILTO:collins_j@westcler.org
END:VEVENT
BEGIN:VEVENT
DTSTART;TZID=UTC:20170824T153000
DTEND;TZID=UTC:20170824T190000
DTSTAMP:20260420T164427
CREATED:20170821T222312Z
LAST-MODIFIED:20170821T222312Z
UID:151-1503588600-1503601200@wcwolfpackboosters.com
SUMMARY:Varsity Men's Golf vs New Richmond
DESCRIPTION:Varsity men’s golf vs New Richmond at Friendly Meadows
URL:http://wcwolfpackboosters.com/calendar/varsity-mens-golf-vs-new-richmond
LOCATION:Friendly Meadows Golf Course\, 809 OH-125\, Hamersville\, OH\, 45130\, United States
CATEGORIES:Golf,Sports
ORGANIZER;CN="James Collins":MAILTO:collins_j@westcler.org
END:VEVENT
BEGIN:VEVENT
DTSTART;TZID=UTC:20170823T160000
DTEND;TZID=UTC:20170823T190000
DTSTAMP:20260420T164427
CREATED:20170821T194247Z
LAST-MODIFIED:20170821T194247Z
UID:138-1503504000-1503514800@wcwolfpackboosters.com
SUMMARY:Varsity Cross Country @ Felicity-Franklin
DESCRIPTION:Felicity-Franklin Invitational \nVarsity Cross Country \n4pm
URL:http://wcwolfpackboosters.com/calendar/varsity-cross-country-felicity-franklin
LOCATION:Felicity-Franklin High School\, 105 Market St.\, Felicity\, OH\, 45120\, United States
CATEGORIES:Cross Country,Sports
ORGANIZER;CN="James Collins":MAILTO:collins_j@westcler.org
END:VEVENT
BEGIN:VEVENT
DTSTART;TZID=UTC:20170822T183000
DTEND;TZID=UTC:20170822T203000
DTSTAMP:20260420T164427
CREATED:20170821T225332Z
LAST-MODIFIED:20170821T225332Z
UID:163-1503426600-1503433800@wcwolfpackboosters.com
SUMMARY:Varsity Women's Volleyball @ Madeira
DESCRIPTION:Varsity women’s volleyball at Madeira
URL:http://wcwolfpackboosters.com/calendar/varsity-womens-volleyball-madeira
LOCATION:Madeira High School\, 7465 Loannes Dr\, Cincinnati\, OH\, 45243\, United States
CATEGORIES:Sports,Volleyball
ORGANIZER;CN="James Collins":MAILTO:collins_j@westcler.org
END:VEVENT
BEGIN:VEVENT
DTSTART;TZID=UTC:20170822T160000
DTEND;TZID=UTC:20170822T193000
DTSTAMP:20260420T164427
CREATED:20170821T195318Z
LAST-MODIFIED:20170821T195318Z
UID:145-1503417600-1503430200@wcwolfpackboosters.com
SUMMARY:Varsity Women's Golf vs Anderson
DESCRIPTION:At Friendly Meadows Golf Course \n4pm
URL:http://wcwolfpackboosters.com/calendar/varsity-womens-golf-vs-anderson
LOCATION:Friendly Meadows Golf Course\, 809 OH-125\, Hamersville\, OH\, 45130\, United States
CATEGORIES:Golf,Sports
ORGANIZER;CN="James Collins":MAILTO:collins_j@westcler.org
END:VEVENT
BEGIN:VEVENT
DTSTART;TZID=UTC:20170822T153000
DTEND;TZID=UTC:20170822T190000
DTSTAMP:20260420T164427
CREATED:20170821T222119Z
LAST-MODIFIED:20170821T222119Z
UID:149-1503415800-1503428400@wcwolfpackboosters.com
SUMMARY:Varsity Men's Golf vs East Clinton
DESCRIPTION:Men’s golf vs East Clinton at home
URL:http://wcwolfpackboosters.com/calendar/varsity-mens-golf-vs-east-clinton
LOCATION:Friendly Meadows Golf Course\, 809 OH-125\, Hamersville\, OH\, 45130\, United States
CATEGORIES:Golf,Sports
ORGANIZER;CN="James Collins":MAILTO:collins_j@westcler.org
END:VEVENT
END:VCALENDAR